Workbook

Sheet 在职村干部工资发放表
A1: 2026年东安县白牙市镇在职村干部基本报酬发放统计表（10月份）
A2: 填报单位（盖章）：白牙市镇政府 党委书记签字： 纪委书记签字： 组织委员签字： 经办人签字： 填报时间：2026年10月12日
A3: 序号 | B3: 姓名 | C3: 性别 | D3: 政治面貌 | E3: 职务 | F3: 身份证号 | G3: 金额（元） | H3: 村（社区） | I3: 联系电话 | J3: 开户银行 | K3: 银行卡号 | L3: 备注
A4: 1 | B4: 蒋琴 | C4: 女 | D4: 党员 | E4: 支书 | F4: 431122********0041 | G4: 4052 | H4: 白牙市村 | I4: 155****2066 | J4: 农商行 | K4: 623090*********5343
A5: 2 | B5: 陈平 | C5: 男 | D5: 党员 | E5: 副支书 | F5: 431122********0010 | G5: 2836 | H5: 白牙市村 | I5: 177****7303 | J5: 农商行 | K5: 621539*********0974
A6: 3 | B6: 胡素群 | C6: 女 | D6: 党员 | E6: 会计 | F6: 431122********174X | G6: 2836 | H6: 白牙市村 | I6: 153****3732 | J6: 农商行 | K6: 623090*********1580
A7: 4 | B7: 唐利凤 | C7: 女 | D7: 党员 | E7: 妇联主席 | F7: 432922********1724 | G7: 2836 | H7: 白牙市村 | I7: 187****1988 | J7: 农商行 | K7: 623090*********4506
A8: 5 | B8: 蒋昆 | C8: 男 | D8: 党员 | E8: 民生员 | F8: 431122********0030 | G8: 2836 | H8: 白牙市村 | I8: 138****4618 | J8: 农商行 | K8: 623090*********7175
A9: 6 | B9: 文娴 | C9: 女 | D9: 党员 | E9: 支书 | F9: 431122********3827 | G9: 4052 | H9: 蔡家村 | I9: 199****9321 | J9: 农商行 | K9: 623090*********8062
A10: 7 | B10: 肖祥香 | C10: 女 | D10: 党员 | E10: 副支书 | F10: 432922********4763 | G10: 2836 | H10: 蔡家村 | I10: 151****3337 | J10: 农商行 | K10: 810139*********6181
A11: 8 | B11: 蒋春丽 | C11: 女 | D11: 群众 | E11: 会计 | F11: 431122********3465 | G11: 2836 | H11: 蔡家村 | I11: 177****8430 | J11: 农商行 | K11: 621539*********3226
A12: 9 | B12: 陈凤香 | C12: 女 | D12: 党员 | E12: 妇联主席 | F12: 432922********4746 | G12: 2836 | H12: 蔡家村 | I12: 158****2885 | J12: 农商行 | K12: 810139*********2417
A13: 10 | B13: 唐滔 | C13: 男 | D13: 党员 | E13: 支书 | F13: 431122********3853 | G13: 4052 | H13: 茶源村 | I13: 134****4706 | J13: 农商行 | K13: 621539*********5156
A14: 11 | B14: 卢莉 | C14: 女 | D14: 党员 | E14: 副支书 | F14: 431122********0047 | G14: 2836 | H14: 茶源村 | I14: 181****7234 | J14: 农商行 | K14: 623090*********5800
A15: 12 | B15: 廖南玲 | C15: 女 | D15: 群众 | E15: 会计 | F15: 431122********3828 | G15: 2836 | H15: 茶源村 | I15: 181****4334 | J15: 农商行 | K15: 810139*********7777
... A28: 25 | B28: 李倩 | C28: 女 | D28: 党员 | E28: 民生员 | F28: 431122********3461 | G28: 2836 | H28: 大江源村 | I28: 158****5987 | J28: 农商行 | K28: 810139*********0103
A29: 26 | B29: 周娟 | C29: 女 | D29: 群众 | E29: 民生员 | F29: 431122********3420 | G29: 2836 | H29: 大江源村 | I29: 189****9853 | J29: 农商行 | K29: 621539*********8383 | L29: 恢复正常报酬
A30: 27 | B30: 唐维勇 | C30: 男 | D30: 党员 | E30: 支书 | F30: 432922********3434 | G30: 4052 | H30: 大塘旺村 | I30: 135****8836 | J30: 农商行 | K30: 810139*********7842
A31: 28 | B31: 唐军华 | C31: 男 | D31: 党员 | E31: 副支书 | F31: 432922********3412 | G31: 2836 | H31: 大塘旺村 | I31: 180****0249 | J31: 农商行 | K31: 810139*********6995
A32: 29 | B32: 荣志刚 | C32: 男 | D32: 党员 | E32: 会计 | F32: 432922********4719 | G32: 2836 | H32: 大塘旺村 | I32: 188****8713 | J32: 农商行 | K32: 621539*********9835
A33: 30 | B33: 蒋丽琼 | C33: 女 | D33: 党员 | E33: 妇联主席 | F33: 431122********3429 | G33: 2836 | H33: 大塘旺村 | I33: 189****7972 | J33: 农商行 | K33: 810139*********2423
A34: 31 | B34: 荣剑 | C34: 男 | D34: 党员 | E34: 民生员 | F34: 431122********3410 | G34: 2836 | H34: 大塘旺村 | I34: 138****2468 | J34: 农商行 | K34: 810139*********3039
A35: 32 | B35: 李平军 | C35: 男 | D35: 党员 | E35: 支书 | F35: 432922********0555 | G35: 4052 | H35: 东城村 | I35: 199****0112 | J35: 农商行 | K35: 623090*********4497
A36: 33 | B36: 荣秋香 | C36: 女 | D36: 党员 | E36: 副支书 | F36: 431122********3461 | G36: 2836 | H36: 东城村 | I36: 158****9360 | J36: 农商行 | K36: 623090*********2828
A37: 34 | B37: 高爱情 | C37: 女 | D37: 党员 | E37: 会计、妇联主席 | F37: 612729********2728 | G37: 2836 | H37: 东城村 | I37: 155****8893 | J37: 农商行 | K37: 810139*********3599
A38: 35 | B38: 蒋荣军 | C38: 男 | D38: 党员 | E38: 民生员 | F38: 432922********3816 | G38: 2836 | H38: 东城村 | I38: 151****8291 | J38: 农商行 | K38: 621539*********7773
A39: 36 | B39: 郭正好 | C39: 男 | D39: 党员 | E39: 民生员 | F39: 432922********0515 | G39: 2836 | H39: 东城村 | I39: 137****0905 | J39: 农商行 | K39: 621539*********7740
A40: 37 | B40: 蒋芳云 | C40: 女 | D40: 党员 | E40: 主任 | F40: 432922********3909 | G40: 3647 | H40: 都塘村 | I40: 180****6915 | J40: 农商行 | K40: 810139*********6430
A41: 38 | B41: 陈丽芳 | C41: 女 | D41: 党员 | E41: 会计 | F41: 431122********1723 | G41: 2836 | H41: 都塘村 | I41: 152****9521 | J41: 农商行 | K41: 621539*********9091
... A83: 80 | B83: 蒋艳花 | C83: 女 | D83: 群众 | E83: 妇联主席 | F83: 432922********264X | G83: 2836 | H83: 柳溪村 | I83: 187****6931 | J83: 农商行 | K83: 621539*********3051
A84: 81 | B84: 李青 | C84: 女 | D84: 群众 | E84: 民生员 | F84: 431122********2626 | G84: 2836 | H84: 柳溪村 | I84: 177****1158 | J84: 农商行 | K84: 623090*********3392 | L84: 恢复正常报酬
A85: 82 | B85: 唐勇华 | C85: 男 | D85: 党员 | E85: 支书 | F85: 432922********3411 | G85: 4052 | H85: 六仕町村 | I85: 137****3889 | J85: 农商行 | K85: 621539*********9876
A86: 83 | B86: 滕海群 | C86: 女 | D86: 党员 | E86: 副支书 | F86: 432922********4726 | G86: 2836 | H86: 六仕町村 | I86: 180****5591 | J86: 农商行 | K86: 810139*********5516
A87: 84 | B87: 唐会华 | C87: 男 | D87: 党员 | E87: 会计 | F87: 432922********3413 | G87: 2836 | H87: 六仕町村 | I87: 172****6509 | J87: 农商行 | K87: 621539*********9243
A88: 85 | B88: 唐丽萍 | C88: 女 | D88: 党员 | E88: 妇联主席 | F88: 431122********1420 | G88: 2836 | H88: 六仕町村 | I88: 199****6753 | J88: 农商行 | K88: 621539*********4977
A89: 86 | B89: 胡立庆 | C89: 男 | D89: 党员 | E89: 支书 | F89: 432922********1959 | G89: 4052 | H89: 龙溪源村 | I89: 138****9387 | J89: 农商行 | K89: 810139*********7546
A90: 87 | B90: 赵满云 | C90: 女 | D90: 党员 | E90: 副支书 | F90: 430528********792X | G90: 2836 | H90: 龙溪源村 | I90: 173****6652 | J90: 农商行 | K90: 810139*********2018
A91: 88 | B91: 陈海平 | C91: 男 | D91: 党员 | E91: 会计 | F91: 432922********1918 | G91: 2836 | H91: 龙溪源村 | I91: 173****4798 | J91: 农商行 | K91: 810139*********1388
A92: 89 | B92: 胡迎春 | C92: 女 | D92: 群众 | E92: 妇联主席 | F92: 432922********6726 | G92: 2836 | H92: 龙溪源村 | I92: 152****0569 | J92: 农商行 | K92: 810139*********9711
A93: 90 | B93: 陈军华 | C93: 男 | D93: 党员 | E93: 民生员 | F93: 432922********1912 | G93: 2836 | H93: 龙溪源村 | I93: 152****7031 | J93: 农商行 | K93: 810139*********8962
A94: 91 | B94: 金小兰 | C94: 女 | D94: 党员 | E94: 支书 | F94: 432922********4740 | G94: 4052 | H94: 秦塘村 | I94: 187****2258 | J94: 农商行 | K94: 810139*********8053
A95: 92 | B95: 秦小华 | C95: 男 | D95: 党员 | E95: 副支书 | F95: 432922********0519 | G95: 2836 | H95: 秦塘村 | I95: 173****5391 | J95: 农商行 | K95: 810139*********9225
A96: 93 | B96: 秦艳群 | C96: 女 | D96: 群众 | E96: 会计 | F96: 431122********0525 | G96: 2836 | H96: 秦塘村 | I96: 134****5661 | J96: 农商行 | K96: 810139*********7924
... A114: 111 | B114: 蒋小艳 | C114: 女 | D114: 群众 | E114: 妇联主席 | F114: 432922********3449 | G114: 2836 | H114: 李家铺村 | I114: 182****7886 | J114: 农商行 | K114: 621539*********7011
A115: 112 | B115: 唐江佳 | C115: 男 | D115: 群众 | E115: 民生员 | F115: 431122********3851 | G115: 2836 | H115: 李家铺村 | I115: 156****8080 | J115: 农商行 | K115: 62309*********7940 | L115: 新任村干部
A116: 113 | B116: 蒋劭 | C116: 男 | D116: 党员 | E116: 支书 | F116: 431122********0175 | G116: 4052 | H116: 石登村 | I116: 193****1625 | J116: 农商行 | K116: 623090*********4569
A117: 114 | B117: 陈勇波 | C117: 男 | D117: 党员 | E117: 副支书 | F117: 432922********3416 | G117: 2836 | H117: 石登村 | I117: 180****2375 | J117: 农商行 | K117: 810139*********6155
A118: 115 | B118: 蒋国丽 | C118: 女 | D118: 党员 | E118: 会计 | F118: 431122********3620 | G118: 2836 | H118: 石登村 | I118: 158****0522 | J118: 农商行 | K118: 810139*********4688
A119: 116 | B119: 陈爱香 | C119: 女 | D119: 群众 | E119: 妇联主席 | F119: 432922********3426 | G119: 2836 | H119: 石登村 | I119: 138****0350 | J119: 农商行 | K119: 810139*********1665
A120: 117 | B120: 邓军红 | C120: 男 | D120: 党员 | E120: 民生员 | F120: 432922********3415 | G120: 2836 | H120: 石登村 | I120: 187****2357 | J120: 农商行 | K120: 623090*********8150
A121: 118 | B121: 蒋龙林 | C121: 男 | D121: 党员 | E121: 支书 | F121: 432922********4713 | G121: 4052 | H121: 石门砥村 | I121: 136****4238 | J121: 农商行 | K121: 810139*********0482
A122: 119 | B122: 唐满秀 | C122: 女 | D122: 党员 | E122: 副支书 | F122: 432922********3427 | G122: 2836 | H122: 石门砥村 | I122: 183****6151 | J122: 农商行 | K122: 810139*********9276
A123: 120 | B123: 蒋春红 | C123: 女 | D123: 党员 | E123: 会计 | F123: 431122********3428 | G123: 2836 | H123: 石门砥村 | I123: 152****1112 | J123: 农商行 | K123: 621539*********9960
A124: 121 | B124: 唐海兰 | C124: 女 | D124: 群众 | E124: 妇联主席 | F124: 432922********3422 | G124: 2836 | H124: 石门砥村 | I124: 187****4109 | J124: 农商行 | K124: 810139*********5432
A125: 122 | B125: 蒋满东 | C125: 男 | D125: 党员 | E125: 支书 | F125: 432922********3432 | G125: 4052 | H125: 石溪河村 | I125: 157****5392 | J125: 农商行 | K125: 623090*********5143
A126: 123 | B126: 陈海风 | C126: 男 | D126: 党员 | E126: 副支书 | F126: 432922********4719 | G126: 2836 | H126: 石溪河村 | I126: 137****7990 | J126: 农商行 | K126: 623090*********2951
A127: 124 | B127: 秦娜 | C127: 女 | D127: 党员 | E127: 会计 | F127: 431122********0068 | G127: 2836 | H127: 石溪河村 | I127: 199****7867 | J127: 农商行 | K127: 623090*********9649
... A183: 180 | B183: 龙小云 | C183: 女 | D183: 群众 | E183: 妇联主席 | F183: 431122********8148 | G183: 2836 | H183: 大龙岩村 | I183: 183****7665 | J183: 农商行 | K183: 623090*********8716
B184: 汇总 | G184: =SUM(G4:G183) -> 556283

Sheet 离任村干部工资发放表
A1: 2026年东安县白牙市镇正常离任村干部生活补贴发放统计表（10月份）
A2: 填报单位（盖章）：白牙市镇政府 党委书记签字： 纪委书记签字： 组织委员签字： 经办人签字： 填报时间：2026年10月12日
A3: 序号 | B3: 姓名 | C3: 性别 | D3: 政治面貌 | E3: 职务 | F3: 身份证号 | G3: 任职 年限 | H3: 金额（元） | I3: 村（社区） | J3: 组别 | K3: 联系电话 | L3: 开户银行 | M3: 银行卡号 | N3: 备注
A4: =ROW()-3 -> 1 | B4: 蒋理志 | C4: 男 | D4: 中共党员 | E4: 村支书 | F4: 432922********0016 | G4: 10 | H4: 240 | I4: 白牙市村 | J4: 15 | K4: 158****1900 | L4: 农商行 | M4: 810139*********8302
A5: =ROW()-3 -> 2 | B5: 唐纪专 | C5: 女 | D5: 中共党员 | E5: 村专干 | F5: 432922********0054 | G5: 17 | H5: 250 | I5: 白牙市村 | J5: 2 | K5: 151****6131 | L5: 农商行 | M5: 810139*********6463 | N5: 蒋解妹之子代领
A6: =ROW()-3 -> 3 | B6: 蒋冬元 | C6: 男 | D6: 中共党员 | E6: 村支书 | F6: 432922********0019 | G6: 22 | H6: 280 | I6: 白牙市村 | J6: 5 | K6: 187****9106 | L6: 农商行 | M6: 810139*********4141
A7: =ROW()-3 -> 4 | B7: 邓彩云 | C7: 女 | D7: 中共党员 | E7: 村支书 | F7: 432922********0186 | G7: 10 | H7: 240 | I7: 白牙市村 | J7: 3 | K7: 138****0021 | L7: 农商行 | M7: 810139*********1172
A8: =ROW()-3 -> 5 | B8: 唐甲英 | C8: 女 | D8: 中共党员 | E8: 村支书 | F8: 432922********0025 | G8: 35 | H8: 280 | I8: 白牙市村 | J8: 5 | K8: 135****9629 | L8: 农商行 | M8: 810139*********9499
A9: =ROW()-3 -> 6 | B9: 蒋建秋 | C9: 男 | D9: 中共党员 | E9: 村主任 | F9: 432922********0036 | G9: 21 | H9: 280 | I9: 白牙市村 | K9: 138****9668 | L9: 农商行 | M9: 623090*********4323
A10: =ROW()-3 -> 7 | B10: 唐守林 | C10: 男 | D10: 中共党员 | E10: 村会计 | F10: 432922********0013 | G10: 10 | H10: 230 | I10: 白牙市村 | K10: 138****6752 | L10: 农商行 | M10: 810139*********4647
A11: =ROW()-3 -> 8 | B11: 唐景元 | C11: 男 | D11: 中共党员 | E11: 村支书 | F11: 432922********0016 | G11: 12 | H11: 240 | I11: 白牙市村 | J11: 7 | K11: 137****0191 | L11: 农商行 | M11: 810139*********5294
A12: =ROW()-3 -> 9 | B12: 蒋国华 | C12: 男 | D12: 中共党员 | E12: 村会计 | F12: 432922********0031 | G12: 12 | H12: 230 | I12: 白牙市村 | J12: 6 | K12: 132****5215 | L12: 农商行 | M12: 623090*********2906
A13: =ROW()-3 -> 10 | B13: 蒋庆元 | C13: 男 | D13: 中共党员 | E13: 村支书 | F13: 432922********0038 | G13: 13 | H13: 240 | I13: 白牙市村 | J13: 1 | K13: 138****4651 | L13: 农商行 | M13: 810139*********2563
A14: =ROW()-3 -> 11 | B14: 唐山银 | C14: 男 | D14: 中共党员 | E14: 村主任 | F14: 432922********003X | G14: 14 | H14: 240 | I14: 白牙市村 | J14: 3 | L14: 农商行 | M14: 623090*********3340
A15: =ROW()-3 -> 12 | B15: 蒋枝艮 | C15: 男 | D15: 中共党员 | E15: 村支书 | F15: 432922********4715 | G15: 28 | H15: 280 | I15: 蔡家村 | J15: 2 | L15: 农商行 | M15: 810139*********4333
A16: =ROW()-3 -> 13 | B16: 陈有星 | C16: 男 | D16: 中共党员 | E16: 村会计 | F16: 432922********4719 | G16: 13 | H16: 230 | I16: 蔡家村 | J16: 7 | K16: 135****6870 | L16: 农商行 | M16: 810139*********6507
A17: =ROW()-3 -> 14 | B17: 陈世元 | C17: 男 | D17: 中共党员 | E17: 村支书 | F17: 432922********4717 | G17: 11 | H17: 240 | I17: 蔡家村 | J17: 3 | K17: 133****6687 | L17: 农商行 | M17: 810139*********0678
A18: =ROW()-3 -> 15 | B18: 陈乙玉 | C18: 女 | D18: 中共党员 | E18: 村专干 | F18: 432922********4727 | G18: 15 | H18: 230 | I18: 蔡家村 | J18: 5 | K18: 150****2933 | L18: 农商行 | M18: 810139*********4344
A19: =ROW()-3 -> 16 | B19: 文春花 | C19: 女 | D19: 群众 | E19: 村专干 | F19: 432922********4720 | G19: 11 | H19: 230 | I19: 蔡家村 | J19: 13 | K19: 177****7651 | L19: 农商行 | M19: 810139*********7616
A20: =ROW()-3 -> 17 | B20: 蒋礼平 | C20: 男 | D20: 中共党员 | E20: 村支书 | F20: 432922********4719 | G20: 23 | H20: 280 | I20: 蔡家村 | J20: 10 | K20: 153****4690 | L20: 农商行 | M20: 621539*********9033
A21: =ROW()-3 -> 18 | B21: 魏静姣 | C21: 女 | D21: 中共党员 | E21: 村支书 | F21: 432922********0048 | G21: 18 | H21: 260 | I21: 苍子岭社区 | K21: 184****5508 | L21: 农商行 | M21: 810139*********6103
A22: =ROW()-3 -> 19 | B22: 唐小林 | C22: 男 | D22: 中共党员 | E22: 村主任 | F22: 432922********1918 | G22: 10 | H22: 240 | I22: 茶源村 | J22: 2 | K22: 187****7131 | L22: 农商行 | M22: 810139*********4123
A23: =ROW()-3 -> 20 | B23: 唐宜云 | C23: 男 | D23: 中共党员 | E23: 村主任 | F23: 432922********1914 | G23: 14 | H23: 240 | I23: 茶源村 | J23: 1 | K23: 187****2633 | L23: 农商行 | M23: 810139*********8136
A24: =ROW()-3 -> 21 | B24: 黄兴国 | C24: 男 | D24: 中共党员 | E24: 村支书 | F24: 432922********1917 | G24: 15 | H24: 240 | I24: 茶源村 | J24: 3 | K24: 135****7601 | L24: 农商行 | M24: 810139*********4971
A25: =ROW()-3 -> 22 | B25: 黄仕裕 | C25: 男 | D25: 中共党员 | E25: 村会计 | F25: 432922********1919 | G25: 14 | H25: 230 | I25: 茶源村 | J25: 3 | K25: 158****0349 | L25: 农商行 | M25: 810139*********8264
A26: =ROW()-3 -> 23 | B26: 李花姣 | C26: 女 | D26: 中共党员 | E26: 村专干 | F26: 432922********1929 | G26: 11 | H26: 230 | I26: 茶源村 | J26: 4 | K26: 138****7942 | L26: 农商行 | M26: 810139*********8726
A27: =ROW()-3 -> 24 | B27: 唐川生 | C27: 男 | D27: 中共党员 | E27: 村会计 | F27: 432922********1913 | G27: 16 | H27: 250 | I27: 茶源村 | J27: 1 | K27: 187****7919 | L27: 农商行 | M27: 810139*********4446
A28: =ROW()-3 -> 25 | B28: 唐满生 | C28: 男 | D28: 中共党员 | E28: 村会计 | F28: 432922********1917 | G28: 10 | H28: 230 | I28: 茶源村 | J28: 3 | K28: 181****5855 | L28: 农商行 | M28: 810139*********4483
A29: =ROW()-3 -> 26 | B29: 唐佑明 | C29: 男 | D29: 中共党员 | E29: 村支书 | F29: 432922********1917 | G29: 27 | H29: 280 | I29: 茶源村 | J29: 1 | K29: 188****1031 | L29: 农商行 | M29: 623090*********4127
A30: =ROW()-3 -> 27 | B30: 唐林华 | C30: 男 | D30: 中共党员 | E30: 村支书 | F30: 432922********3419 | G30: 25 | H30: 280 | I30: 大江口村 | J30: 7 | K30: 138****4799 | L30: 农商行 | M30: 810139*********2065
A31: =ROW()-3 -> 28 | B31: 李章福 | C31: 男 | D31: 中共党员 | E31: 村主任 | F31: 432922********3414 | G31: 20 | H31: 260 | I31: 大江口村 | J31: 14 | K31: 184****2650 | L31: 农商行 | M31: 810139*********2649
A32: =ROW()-3 -> 29 | B32: 朱大清 | C32: 男 | D32: 中共党员 | E32: 村支书 | F32: 432922********3411 | G32: 14 | H32: 240 | I32: 大江口村 | J32: 3 | K32: 134****0756 | L32: 农商行 | M32: 810139*********5994
A33: =ROW()-3 -> 30 | B33: 唐幸符 | C33: 男 | D33: 中共党员 | E33: 村支书 | F33: 432922********3412 | G33: 24 | H33: 280 | I33: 大江口村 | J33: 8 | K33: 155****2327 | L33: 农商行 | M33: 810139*********6020
A34: =ROW()-3 -> 31 | B34: 张三玉 | C34: 女 | D34: 群众 | E34: 村专干 | F34: 432922********3444 | G34: 10 | H34: 230 | I34: 大江口村 | L34: 农商行 | M34: 810139*********2616
A35: =ROW()-3 -> 32 | B35: 唐玉秀 | C35: 女 | D35: 中共党员 | E35: 村专干 | F35: 432922********3424 | G35: 15 | H35: 230 | I35: 大江口村 | J35: 18 | L35: 农商行 | M35: 810139*********8344
A36: =ROW()-3 -> 33 | B36: 邓国荣 | C36: 男 | D36: 中共党员 | E36: 村支书 | F36: 432922********3410 | G36: 16 | H36: 260 | I36: 大江口村 | J36: 7 | K36: 158****2369 | L36: 农商行 | M36: 810139*********9083
A37: =ROW()-3 -> 34 | B37: 荣素姣 | C37: 女 | D37: 中共党员 | E37: 村妇联主席 | F37: 432922********3424 | G37: 17 | H37: 250 | I37: 大江口村 | J37: 1 | K37: 151****8277 | L37: 农商行 | M37: 810139*********6873
A38: =ROW()-3 -> 35 | B38: 唐平雄 | C38: 男 | D38: 中共党员 | E38: 村支书 | F38: 431122********0014 | G38: 21 | H38: 280 | I38: 大江口村 | J38: 15 | K38: 132****2729 | L38: 农商行 | M38: 810139*********4538
A39: =ROW()-3 -> 36 | B39: 蒋兴旺 | C39: 女 | D39: 中共党员 | E39: 村主任 | F39: 432922********3413 | G39: 10 | H39: 240 | I39: 大江源村 | J39: 5 | K39: 150****9109 | L39: 农商行 | M39: 810139*********6348
A40: =ROW()-3 -> 37 | B40: 李苏湘 | C40: 男 | D40: 中共党员 | E40: 村会计 | F40: 432922********341X | G40: 30 | H40: 270 | I40: 大江源村 | J40: 7 | K40: 155****4996 | L40: 农商行 | M40: 810139*********8688
A41: =ROW()-3 -> 38 | B41: 刘美英 | C41: 女 | D41: 中共党员 | E41: 村专干 | F41: 432922********3426 | G41: 15 | H41: 230 | I41: 大江源村 | K41: 135****2545 | L41: 农商行 | M41: 810139*********1833
A42: =ROW()-3 -> 39 | B42: 邓乙桂 | C42: 男 | D42: 中共党员 | E42: 村支书 | F42: 432922********3419 | G42: 15 | H42: 240 | I42: 大江源村 | J42: 2 | L42: 农商行 | M42: 810139*********6085
A43: =ROW()-3 -> 40 | B43: 刘桂林 | C43: 男 | D43: 中共党员 | E43: 村主任 | F43: 432922********3437 | G43: 13 | H43: 240 | I43: 大江源村 | J43: 5 | K43: 152****7721 | L43: 农商行 | M43: 810139*********6377
A44: =ROW()-3 -> 41 | B44: 蒋秀会 | C44: 男 | D44: 中共党员 | E44: 村会计 | F44: 432922********3430 | G44: 10 | H44: 230 | I44: 大江源村 | J44: 4 | L44: 农商行 | M44: 810139*********6031
A45: =ROW()-3 -> 42 | B45: 刘建生 | C45: 男 | D45: 中共党员 | E45: 村会计 | F45: 432922********3412 | G45: 10 | H45: 230 | I45: 大江源村 | J45: 3 | K45: 182****3849 | L45: 农商行 | M45: 810139*********4234
A46: =ROW()-3 -> 43 | B46: 谢上林 | C46: 男 | D46: 中共党员 | E46: 村会计 | F46: 432922********3417 | G46: 21 | H46: 270 | I46: 大江源村 | J46: 6 | K46: 138****3899 | L46: 农商行 | M46: 810139*********4646
A47: =ROW()-3 -> 44 | B47: 李丙秋 | C47: 女 | D47: 中共党员 | E47: 村主任 | F47: 432922********3476 | G47: 15 | H47: 240 | I47: 大江源村 | J47: 4 | K47: 159****5927 | L47: 农商行 | M47: 810139*********6931
A48: =ROW()-3 -> 45 | B48: 李端生 | C48: 男 | D48: 中共党员 | E48: 村支书 | F48: 432922********3432 | G48: 10 | H48: 240 | I48: 大江源村 | J48: 3 | L48: 农商行 | M48: 810139*********6219
A49: =ROW()-3 -> 46 | B49: 蒋玉华 | C49: 女 | D49: 中共党员 | E49: 村支书 | F49: 432922********3427 | G49: 25 | H49: 280 | I49: 大江源村 | J49: 4 | K49: 138****4097 | L49: 农商行 | M49: 810139*********3284
A50: =ROW()-3 -> 47 | B50: 蒋顺贵 | C50: 女 | D50: 中共党员 | E50: 村专干 | F50: 432922********3427 | G50: 13 | H50: 230 | I50: 大江源村 | J50: 6 | K50: 173****7079 | L50: 农商行 | M50: 621539*********9466
A51: =ROW()-3 -> 48 | B51: 李保军 | C51: 男 | D51: 中共党员 | E51: 村会计 | F51: 432922********3418 | G51: 10 | H51: 230 | I51: 大江源村 | J51: 4 | K51: 191****7699 | L51: 农商行 | M51: 623090*********1310
A52: =ROW()-3 -> 49 | B52: 张荣华 | C52: 女 | D52: 中共党员 | E52: 村专干 | F52: 432922********3467 | G52: 11 | H52: 230 | I52: 大江源村 | J52: 1 | K52: 153****5468 | L52: 农商行 | M52: 810139*********4780
A53: =ROW()-3 -> 50 | B53: 刘桂满 | C53: 男 | D53: 中共党员 | E53: 村支书 | F53: 432922********3431 | G53: 15 | H53: 240 | I53: 大江源村 | J53: 2 | L53: 农商行 | M53: 810139*********6592
A54: =ROW()-3 -> 51 | B54: 陈秋生 | C54: 男 | D54: 中共党员 | E54: 村会计 | F54: 432922********3410 | G54: 12 | H54: 230 | I54: 大江源村 | J54: 4 | L54: 农商行 | M54: 622169*********2526
A55: =ROW()-3 -> 52 | B55: 周松林 | C55: 男 | D55: 中共党员 | E55: 村支书 | F55: 432922********3417 | G55: 21 | H55: 280 | I55: 大江源村 | J55: 4 | K55: 189****8537 | L55: 农商行 | M55: 621539*********0525
A56: =ROW()-3 -> 53 | B56: 蒋松林 | C56: 男 | D56: 中共党员 | E56: 村支书 | F56: 432922********343X | G56: 11 | H56: 240 | I56: 大江源村 | J56: 6 | L56: 农商行 | M56: 623090*********7827
A57: =ROW()-3 -> 54 | B57: 龙金连 | C57: 女 | D57: 中共党员 | E57: 村专干 | F57: 432922********0524 | G57: 10 | H57: 230 | I57: 大龙岩村 | J57: 4 | L57: 农商行 | M57: 810139*********0543
A58: =ROW()-3 -> 55 | B58: 龙多英 | C58: 女 | D58: 中共党员 | E58: 村专干 | F58: 432922********0522 | G58: 20 | H58: 250 | I58: 大龙岩村 | J58: 2 | K58: 186****1819 | L58: 农商行 | M58: 810139*********0713
A59: =ROW()-3 -> 56 | B59: 蒋金良 | C59: 男 | D59: 中共党员 | E59: 村会计 | F59: 432922********0514 | G59: 10 | H59: 230 | I59: 大龙岩村 | K59: 150****4584 | L59: 农商行 | M59: 810139*********9788
A60: =ROW()-3 -> 57 | B60: 蒋锡东 | C60: 男 | D60: 中共党员 | E60: 村支书 | F60: 432922********0530 | G60: 40 | H60: 280 | I60: 大龙岩村 | J60: 6 | K60: 153****6965 | L60: 农商行 | M60: 810139*********2041
A61: =ROW()-3 -> 58 | B61: 龙建华 | C61: 男 | D61: 中共党员 | E61: 村支书 | F61: 432922********0510 | G61: 16 | H61: 260 | I61: 大龙岩村 | J61: 2 | K61: 152****7818 | L61: 农商行 | M61: 810139*********9344
A62: =ROW()-3 -> 59 | B62: 龙春姣 | C62: 女 | D62: 中共党员 | E62: 村专干 | F62: 432922********0529 | G62: 16 | H62: 250 | I62: 大龙岩村 | K62: 181****7685 | L62: 农商行 | M62: 810139*********9675
A63: =ROW()-3 -> 60 | B63: 蒋仁元 | C63: 男 | D63: 中共党员 | E63: 村支书 | F63: 432922********0512 | G63: 17 | H63: 260 | I63: 大龙岩村 | K63: 180****2496 | L63: 农商行 | M63: 621539*********3283
A64: =ROW()-3 -> 61 | B64: 周翠姣 | C64: 女 | D64: 中共党员 | E64: 村专干 | F64: 432922********0545 | G64: 12 | H64: 230 | I64: 大龙岩村 | K64: 189****4443 | L64: 农商行 | M64: 810139*********4687
A65: =ROW()-3 -> 62 | B65: 王玉贵 | C65: 女 | D65: 中共党员 | E65: 村专干 | F65: 432922********0564 | G65: 11 | H65: 230 | I65: 大龙岩村 | J65: 5 | L65: 农商行 | M65: 810139*********5503
A66: =ROW()-3 -> 63 | B66: 唐宏庆 | C66: 男 | D66: 中共党员 | E66: 村支书 | F66: 432922********3412 | G66: 33 | H66: 280 | I66: 大塘旺村 | J66: 7 | K66: 173****3665 | L66: 农商行 | M66: 810139*********9607
A67: =ROW()-3 -> 64 | B67: 唐娥玉 | C67: 女 | D67: 中共党员 | E67: 村专干 | F67: 432922********3424 | G67: 13 | H67: 230 | I67: 大塘旺村 | J67: 4 | K67: 138****8446 | L67: 农商行 | M67: 623090*********2473
A68: =ROW()-3 -> 65 | B68: 唐福东 | C68: 男 | D68: 中共党员 | E68: 村主任 | F68: 432922********3417 | G68: 16 | H68: 260 | I68: 大塘旺村 | J68: 5 | K68: 152****8378 | L68: 农商行 | M68: 810139*********3207
A69: =ROW()-3 -> 66 | B69: 唐玉林 | C69: 男 | D69: 中共党员 | E69: 村主任 | F69: 432922********3414 | G69: 16 | H69: 260 | I69: 大塘旺村 | J69: 5 | L69: 农商行 | M69: 622169*********8744
A70: =ROW()-3 -> 67 | B70: 荣培伦 | C70: 男 | D70: 中共党员 | E70: 村主任 | F70: 432922********4759 | G70: 11 | H70: 240 | I70: 大塘旺村 | J70: 5 | K70: 155****5301 | L70: 农商行 | M70: 810139*********5643
A71: =ROW()-3 -> 68 | B71: 滕兴安 | C71: 男 | D71: 中共党员 | E71: 村会计 | F71: 432922********4753 | G71: 11 | H71: 230 | I71: 大塘旺村 | J71: 6 | L71: 农商行 | M71: 810139*********7080
A72: =ROW()-3 -> 69 | B72: 荣秋芳 | C72: 男 | D72: 中共党员 | E72: 村支书 | F72: 432922********4716 | G72: 16 | H72: 260 | I72: 大塘旺村 | J72: 8 | K72: 158****0182 | L72: 农商行 | M72: 623090*********9744
A73: =ROW()-3 -> 70 | B73: 李年英 | C73: 男 | D73: 中共党员 | E73: 村专干 | F73: 432922********4729 | G73: 12 | H73: 230 | I73: 大塘旺村 | J73: 7 | K73: 158****3504 | L73: 农商行 | M73: 810139*********9611
A74: =ROW()-3 -> 71 | B74: 唐夏生 | C74: 男 | D74: 中共党员 | E74: 村支书 | F74: 432922********3434 | G74: 22 | H74: 280 | I74: 大塘旺村 | J74: 8 | K74: 137****8803 | L74: 农商行 | M74: 810139*********5334
A75: =ROW()-3 -> 72 | B75: 蒋可旺 | C75: 男 | D75: 中共党员 | E75: 村会计 | F75: 432922********471X | G75: 12 | H75: 230 | I75: 大塘旺村 | J75: 3 | L75: 农商行 | M75: 810139*********5196
A76: =ROW()-3 -> 73 | B76: 荣海林 | C76: 男 | D76: 中共党员 | E76: 村会计 | F76: 432922********3433 | G76: 11 | H76: 230 | I76: 大塘旺村 | K76: 137****3859 | L76: 农商行 | M76: 810139*********0506
A77: =ROW()-3 -> 74 | B77: 唐新梁 | C77: 男 | D77: 中共党员 | E77: 村支书 | F77: 432922********3436 | G77: 21 | H77: 280 | I77: 大塘旺村 | J77: 8 | K77: 134****7032 | L77: 农商行 | M77: 623090*********0927
A78: =ROW()-3 -> 75 | B78: 唐凤香 | C78: 女 | D78: 中共党员 | E78: 村专干 | F78: 432922********4721 | G78: 13 | H78: 230 | I78: 大塘旺村 | J78: 24 | K78: 138****6079 | L78: 农商行 | M78: 810139*********6052
A79: =ROW()-3 -> 76 | B79: 张小艳 | C79: 女 | D79: 中共党员 | E79: 村专干 | F79: 432922********3441 | G79: 12 | H79: 230 | I79: 大塘旺村 | J79: 11 | L79: 农商行 | M79: 623090*********6247
A80: =ROW()-3 -> 77 | B80: 唐小荣 | C80: 女 | D80: 中共党员 | E80: 村专干 | F80: 432922********3427 | G80: 25 | H80: 270 | I80: 大塘旺村 | J80: 22 | L80: 农商行 | M80: 623090*********5439
A81: =ROW()-3 -> 78 | B81: 唐青生 | C81: 男 | D81: 中共党员 | E81: 村主任 | F81: 432922********3451 | G81: 15 | H81: 240 | I81: 大塘旺村 | J81: 3 | L81: 农商行 | M81: 810139*********5010
A82: =ROW()-3 -> 79 | B82: 蒋礼海 | C82: 男 | D82: 中共党员 | E82: 村支书 | F82: 432922********3815 | G82: 11 | H82: 240 | I82: 东城村 | J82: 2 | K82: 188****7571 | L82: 农商行 | M82: 810139*********1358
A83: =ROW()-3 -> 80 | B83: 蒋奕瑶 | C83: 男 | D83: 中共党员 | E83: 村支书 | F83: 432922********051X | G83: 21 | H83: 280 | I83: 东城村 | J83: 16 | L83: 农商行 | M83: 810139*********5013
A84: =ROW()-3 -> 81 | B84: 蒋荣国 | C84: 男 | D84: 中共党员 | E84: 村支书 | F84: 432922********0514 | G84: 12 | H84: 240 | I84: 东城村 | J84: 4 | K84: 187****9505 | L84: 农商行 | M84: 810139*********2307
A85: =ROW()-3 -> 82 | B85: 蒋群彩 | C85: 女 | D85: 群众 | E85: 村专干 | F85: 432922********0564 | G85: 11 | H85: 230 | I85: 东城村 | J85: 9 | K85: 177****3518 | L85: 农商行 | M85: 623090*********3358
A86: =ROW()-3 -> 83 | B86: 蒋桂荣 | C86: 女 | D86: 中共党员 | E86: 村专干 | F86: 432922********3824 | G86: 11 | H86: 230 | I86: 东城村 | J86: 19 | K86: 177****5176 | L86: 农商行 | M86: 810139*********0808
A87: =ROW()-3 -> 84 | B87: 蒋美荣 | C87: 女 | D87: 中共党员 | E87: 村专干 | F87: 432922********3845 | G87: 10 | H87: 230 | I87: 东城村 | J87: 17 | K87: 150****0373 | L87: 农商行 | M87: 810139*********5440
A88: =ROW()-3 -> 85 | B88: 郭青石 | C88: 男 | D88: 中共党员 | E88: 村会计 | F88: 432922********3812 | G88: 12 | H88: 230 | I88: 东城村 | J88: 12 | K88: 192****6330 | L88: 农商行 | M88: 810139*********1631 | N88: 新增离任村干部
A89: =ROW()-3 -> 86 | B89: 蒋素缘 | C89: 男 | D89: 中共党员 | E89: 村会计 | F89: 432922********0518 | G89: 10 | H89: 1610 | I89: 东城村 | J89: 6 | K89: 137****3677 | L89: 农商行 | M89: 810139*********3963 | N89: 新增离任村干部， 补发4-9月份
A90: =ROW()-3 -> 87 | B90: 蒋新梓 | C90: 男 | D90: 中共党员 | E90: 村主任 | F90: 432922********0517 | G90: 10 | H90: 240 | I90: 都塘村 | L90: 农商行 | M90: 810139*********4818
A91: =ROW()-3 -> 88 | B91: 陈英勇 | C91: 男 | D91: 中共党员 | E91: 村主任 | F91: 432922********0518 | G91: 12 | H91: 240 | I91: 都塘村 | J91: 8 | K91: 134****3869 | L91: 农商行 | M91: 810139*********1283
A92: =ROW()-3 -> 89 | B92: 蒋中秀 | C92: 女 | D92: 中共党员 | E92: 村专干 | F92: 432922********0523 | G92: 22 | H92: 270 | I92: 都塘村 | J92: 9 | K92: 150****7368 | L92: 农商行 | M92: 810139*********8260
A93: =ROW()-3 -> 90 | B93: 蒋正平 | C93: 男 | D93: 中共党员 | E93: 村主任 | F93: 432922********0534 | G93: 10 | H93: 240 | I93: 都塘村 | J93: 5 | K93: 177****9998 | L93: 农商行 | M93: 623090*********1021
A94: =ROW()-3 -> 91 | B94: 唐爱民 | C94: 男 | D94: 中共党员 | E94: 村会计 | F94: 432922********0510 | G94: 11 | H94: 230 | I94: 独秀峰村 | J94: 5 | L94: 农商行 | M94: 810139*********1226
A95: =ROW()-3 -> 92 | B95: 蒋秀英 | C95: 女 | D95: 中共党员 | E95: 村专干 | F95: 432922********0522 | G95: 15 | H95: 230 | I95: 独秀峰村 | J95: 6 | K95: 152****7932 | L95: 农商行 | M95: 810139*********6503
A96: =ROW()-3 -> 93 | B96: 蒋利云 | C96: 女 | D96: 中共党员 | E96: 村妇联主席 | F96: 432922********0526 | G96: 11 | H96: 230 | I96: 独秀峰村 | J96: 16 | K96: 151****6120 | L96: 农商行 | M96: 810139*********2416
A97: =ROW()-3 -> 94 | B97: 滕甲元 | C97: 男 | D97: 中共党员 | E97: 村支书 | F97: 432922********0519 | G97: 10 | H97: 240 | I97: 独秀峰村 | J97: 3 | K97: 159****6368 | L97: 农商行 | M97: 810139*********8373
A98: =ROW()-3 -> 95 | B98: 陈春玉 | C98: 女 | D98: 中共党员 | E98: 村妇联主席 | F98: 432922********0521 | G98: 15 | H98: 230 | I98: 独秀峰村 | J98: 9 | L98: 农商行 | M98: 810139*********7267
A99: =ROW()-3 -> 96 | B99: 芦晓云 | C99: 女 | D99: 中共党员 | E99: 村专干 | F99: 432922********0521 | G99: 17 | H99: 250 | I99: 独秀峰村 | J99: 1 | K99: 173****9750 | L99: 农商行 | M99: 621539*********4896
A100: =ROW()-3 -> 97 | B100: 唐伟明 | C100: 男 | D100: 中共党员 | E100: 村支书 | F100: 432922********0511 | G100: 23 | H100: 280 | I100: 独秀峰村 | J100: 10 | K100: 135****7766 | L100: 农商行 | M100: 623090*********3739
...

Sheet 汇总表
A1: 2026年东安县白牙市镇村干部基本报酬和正常离任村干部生活补贴拨付汇总表（10月份）
A2: 填报单位(盖章）：白牙市镇 | D2: 党委书记签字：
A3: 纪委书记签字： 组织委员签字： 经办人签字： 填报时间：2026年10月12日
A4: 村别 | B4: 村干部基本报酬 | C4: 正常离任村干部生活补贴 | D4: 合计 | E4: 备注
A5: 白牙市村 | B5: =SUMIF(在职村干部工资发放表!H:H,A5,在职村干部工资发放表!G:G) -> 15396 | C5: =SUMIF(离任村干部工资发放表!I:I,A5,离任村干部工资发放表!H:H) -> 2750 | D5: =SUM(B5:C5) -> 18146
A6: 蔡家村 | B6: =SUMIF(在职村干部工资发放表!H:H,A6,在职村干部工资发放表!G:G) -> 12560 | C6: =SUMIF(离任村干部工资发放表!I:I,A6,离任村干部工资发放表!H:H) -> 1490 | D6: =SUM(B6:C6) -> 14050
A7: 茶源村 | B7: =SUMIF(在职村干部工资发放表!H:H,A7,在职村干部工资发放表!G:G) -> 15396 | C7: =SUMIF(离任村干部工资发放表!I:I,A7,离任村干部工资发放表!H:H) -> 1940 | D7: =SUM(B7:C7) -> 17336
A8: 大江口村 | B8: =SUMIF(在职村干部工资发放表!H:H,A8,在职村干部工资发放表!G:G) -> 18232 | C8: =SUMIF(离任村干部工资发放表!I:I,A8,离任村干部工资发放表!H:H) -> 2310 | D8: =SUM(B8:C8) -> 20542
A9: 大江源村 | B9: =SUMIF(在职村干部工资发放表!H:H,A9,在职村干部工资发放表!G:G) -> 18232 | C9: =SUMIF(离任村干部工资发放表!I:I,A9,离任村干部工资发放表!H:H) -> 4390 | D9: =SUM(B9:C9) -> 22622
A10: 大龙岩村 | B10: =SUMIF(在职村干部工资发放表!H:H,A10,在职村干部工资发放表!G:G) -> 12560 | C10: =SUMIF(离任村干部工资发放表!I:I,A10,离任村干部工资发放表!H:H) -> 2220 | D10: =SUM(B10:C10) -> 14780
A11: 大塘旺村 | B11: =SUMIF(在职村干部工资发放表!H:H,A11,在职村干部工资发放表!G:G) -> 15396 | C11: =SUMIF(离任村干部工资发放表!I:I,A11,离任村干部工资发放表!H:H) -> 3980 | D11: =SUM(B11:C11) -> 19376
A12: 东城村 | B12: =SUMIF(在职村干部工资发放表!H:H,A12,在职村干部工资发放表!G:G) -> 15396 | C12: =SUMIF(离任村干部工资发放表!I:I,A12,离任村干部工资发放表!H:H) -> 3290 | D12: =SUM(B12:C12) -> 18686
A13: 都塘村 | B13: =SUMIF(在职村干部工资发放表!H:H,A13,在职村干部工资发放表!G:G) -> 12155 | C13: =SUMIF(离任村干部工资发放表!I:I,A13,离任村干部工资发放表!H:H) -> 990 | D13: =SUM(B13:C13) -> 13145
A14: 独秀峰村 | B14: =SUMIF(在职村干部工资发放表!H:H,A14,在职村干部工资发放表!G:G) -> 15396 | C14: =SUMIF(离任村干部工资发放表!I:I,A14,离任村干部工资发放表!H:H) -> 1920 | D14: =SUM(B14:C14) -> 17316
A15: 工业新村 | B15: =SUMIF(在职村干部工资发放表!H:H,A15,在职村干部工资发放表!G:G) -> 12560 | C15: =SUMIF(离任村干部工资发放表!I:I,A15,离任村干部工资发放表!H:H) -> 2530 | D15: =SUM(B15:C15) -> 15090
A16: 荷池村 | B16: =SUMIF(在职村干部工资发放表!H:H,A16,在职村干部工资发放表!G:G) -> 12560 | C16: =SUMIF(离任村干部工资发放表!I:I,A16,离任村干部工资发放表!H:H) -> 1470 | D16: =SUM(B16:C16) -> 14030
... A43: 宥江桥村 | B43: =SUMIF(在职村干部工资发放表!H:H,A43,在职村干部工资发放表!G:G) -> 18232 | C43: =SUMIF(离任村干部工资发放表!I:I,A43,离任村干部工资发放表!H:H) -> 1680 | D43: =SUM(B43:C43) -> 19912
A44: 苍子岭社区 | C44: =SUMIF(离任村干部工资发放表!I:I,A44,离任村干部工资发放表!H:H) -> 260 | D44: =SUM(B44:C44) -> 260
A45: 梨山口社区 | C45: =SUMIF(离任村干部工资发放表!I:I,A45,离任村干部工资发放表!H:H) -> 520 | D45: =SUM(B45:C45) -> 520
A46: 龙溪社区 | C46: =SUMIF(离任村干部工资发放表!I:I,A46,离任村干部工资发放表!H:H) -> 770 | D46: =SUM(B46:C46) -> 770
A47: 合计 | B47: =SUM(B5:B46) -> 556283 | C47: =SUM(C5:C46) -> 83350 | D47: =SUM(B47:C47) -> 639633

Sheet 村干部异动 
A1: 2026年东安县白牙市镇村干部异动表（10月份）
A2: 序号 | B2: 姓名 | C2: 性别 | D2: 政治面貌 | E2: 职务 | F2: 身份证号 | G2: 金额（元） | H2: 村（社区） | I2: 联系电话 | J2: 开户银行 | K2: 银行卡号 | L2: 异动原因 | M2: 备注
A3: 1 | B3: 周娟 | C3: 女 | D3: 群众 | E3: 民生员 | F3: 431122********3420 | G3: 2836 | H3: 大江源村 | I3: 189****9853 | J3: 农商行 | K3: 621539*********8383 | L3: 恢复正常报酬
A4: 2 | B4: 李青 | C4: 女 | D4: 群众 | E4: 民生员 | F4: 431122********2626 | G4: 2836 | H4: 柳溪村 | I4: 177****1158 | J4: 农商行 | K4: 623090*********3392 | L4: 恢复正常报酬
A5: 3 | B5: 唐江佳 | C5: 男 | D5: 群众 | E5: 民生员 | F5: 431122********3851 | G5: 2836 | H5: 李家铺村 | I5: 156****8080 | J5: 农商行 | K5: 62309*********7940 | L5: 新任村干部
A6: 4 | B6: 唐爱军 | C6: 男 | D6: 党员 | E6: 支书 | F6: 432922********191X | G6: 4052 | H6: 鸡井塘村 | I6: 138****5351 | J6: 农商行 | K6: 810139*********8749 | L6: 辞职
A7: 5 | B7: 郭青石 | C7: 男 | D7: 中共党员 | E7: 村会计 | F7: 432922********3812 | G7: 230 | H7: 东城村 | I7: 192****6330 | J7: 农商行 | K7: 810139*********1631 | L7: 新增离任村干部
A8: 6 | B8: 蒋国平 | C8: 男 | D8: 中共党员 | E8: 村会计 | F8: 432922********0515 | G8: 230 | H8: 独秀峰村 | I8: 151****4378 | J8: 农商行 | K8: 621539*********8870 | L8: 新增离任村干部
A9: 7 | B9: 唐冬元 | C9: 男 | D9: 中共党员 | E9: 村主任 | F9: 432922********0511 | G9: 260 | H9: 工业新村 | I9: 130****5761 | J9: 农商行 | K9: 810139*********3972 | L9: 新增离任村干部
A10: 8 | B10: 陈众生 | C10: 男 | D10: 中共党员 | E10: 副支书 | F10: 432922********1910 | G10: 230 | H10: 桐子山村 | I10: 139****4513 | J10: 农商行 | K10: 623090*********9010 | L10: 新增离任村干部
A11: 9 | B11: 蒋素缘 | C11: 男 | D11: 中共党员 | E11: 村会计 | F11: 432922********0518 | G11: 1610 | H11: 东城村 | I11: 137****3677 | J11: 农商行 | K11: 810139*********3963 | L11: 新增离任村干部，补发4-9月份
